BEGIN:VCALENDAR
VERSION:2.0
PRODID:-//New Life Bible Chapel - ECPv6.15.20//NONSGML v1.0//EN
CALSCALE:GREGORIAN
METHOD:PUBLISH
X-WR-CALNAME:New Life Bible Chapel
X-ORIGINAL-URL:https://newlifebiblechapel.com
X-WR-CALDESC:Events for New Life Bible Chapel
REFRESH-INTERVAL;VALUE=DURATION:PT1H
X-Robots-Tag:noindex
X-PUBLISHED-TTL:PT1H
BEGIN:VTIMEZONE
TZID:America/Halifax
BEGIN:DAYLIGHT
TZOFFSETFROM:-0400
TZOFFSETTO:-0300
TZNAME:ADT
DTSTART:20250309T060000
END:DAYLIGHT
BEGIN:STANDARD
TZOFFSETFROM:-0300
TZOFFSETTO:-0400
TZNAME:AST
DTSTART:20251102T050000
END:STANDARD
BEGIN:DAYLIGHT
TZOFFSETFROM:-0400
TZOFFSETTO:-0300
TZNAME:ADT
DTSTART:20260308T060000
END:DAYLIGHT
BEGIN:STANDARD
TZOFFSETFROM:-0300
TZOFFSETTO:-0400
TZNAME:AST
DTSTART:20261101T050000
END:STANDARD
BEGIN:DAYLIGHT
TZOFFSETFROM:-0400
TZOFFSETTO:-0300
TZNAME:ADT
DTSTART:20270314T060000
END:DAYLIGHT
BEGIN:STANDARD
TZOFFSETFROM:-0300
TZOFFSETTO:-0400
TZNAME:AST
DTSTART:20271107T050000
END:STANDARD
END:VTIMEZONE
BEGIN:VEVENT
DTSTART;VALUE=DATE:20260817
DTEND;VALUE=DATE:20260908
DTSTAMP:20260421T072643
CREATED:20260318T173054Z
LAST-MODIFIED:20260318T173054Z
UID:7388-1786924800-1788825599@newlifebiblechapel.com
SUMMARY:CNE Bible Distribution
DESCRIPTION:
URL:https://newlifebiblechapel.com/event/cne-bible-distribution/
LOCATION:Ontario
END:VEVENT
BEGIN:VEVENT
DTSTART;TZID=America/Halifax:20260821T170000
DTEND;TZID=America/Halifax:20260822T170000
DTSTAMP:20260421T072643
CREATED:20260318T173024Z
LAST-MODIFIED:20260318T173024Z
UID:7386-1787331600-1787418000@newlifebiblechapel.com
SUMMARY:Sunday School Retreat
DESCRIPTION:
URL:https://newlifebiblechapel.com/event/sunday-school-retreat/
LOCATION:Ontario
END:VEVENT
END:VCALENDAR