BEGIN:VCALENDAR
VERSION:2.0
PRODID:-//New Life Bible Chapel - ECPv6.15.20//NONSGML v1.0//EN
CALSCALE:GREGORIAN
METHOD:PUBLISH
X-WR-CALNAME:New Life Bible Chapel
X-ORIGINAL-URL:https://newlifebiblechapel.com
X-WR-CALDESC:Events for New Life Bible Chapel
REFRESH-INTERVAL;VALUE=DURATION:PT1H
X-Robots-Tag:noindex
X-PUBLISHED-TTL:PT1H
BEGIN:VTIMEZONE
TZID:America/Halifax
BEGIN:DAYLIGHT
TZOFFSETFROM:-0400
TZOFFSETTO:-0300
TZNAME:ADT
DTSTART:20240310T060000
END:DAYLIGHT
BEGIN:STANDARD
TZOFFSETFROM:-0300
TZOFFSETTO:-0400
TZNAME:AST
DTSTART:20241103T050000
END:STANDARD
BEGIN:DAYLIGHT
TZOFFSETFROM:-0400
TZOFFSETTO:-0300
TZNAME:ADT
DTSTART:20250309T060000
END:DAYLIGHT
BEGIN:STANDARD
TZOFFSETFROM:-0300
TZOFFSETTO:-0400
TZNAME:AST
DTSTART:20251102T050000
END:STANDARD
BEGIN:DAYLIGHT
TZOFFSETFROM:-0400
TZOFFSETTO:-0300
TZNAME:ADT
DTSTART:20260308T060000
END:DAYLIGHT
BEGIN:STANDARD
TZOFFSETFROM:-0300
TZOFFSETTO:-0400
TZNAME:AST
DTSTART:20261101T050000
END:STANDARD
END:VTIMEZONE
BEGIN:VEVENT
DTSTART;TZID=America/Halifax:20251206T170000
DTEND;TZID=America/Halifax:20251206T193000
DTSTAMP:20260421T073824
CREATED:20251024T230850Z
LAST-MODIFIED:20251101T185401Z
UID:7202-1765040400-1765049400@newlifebiblechapel.com
SUMMARY:Journey Through Jerusalem
DESCRIPTION:Journey Through Jerusalem (2025)\n​A New Life Bible Chapel​ Christmas Production\n​\n​Come join us in an immersive play\, ​as you walk through biblical events featuring the life of Jesus\, from his birth to his final days on earth. \n​The event is free\, but registration is mandatory to book your time slot. \nDate ​& ​Time​:\nSaturday\, December 6 ·\n5-7:30​ pm EST.\nDoors at 5​ pm \n​\n​Click the link for further details & registration: \nhttps://www.eventbrite.ca/e/1826274318649?aff=oddtdtcreator
URL:https://newlifebiblechapel.com/event/journey-through-jerusalem/
LOCATION:New Life Bible Chapel\, 6945 Meadownvale Town Centre Circle\, Mississauga\, Ontario\, L5N 2W7\, Canada
END:VEVENT
END:VCALENDAR